Workbook

Sheet Reseña y totales generales
A1: REGIONS NEXT STEPS
A3: Cómo mantenerse encaminado
A4: Crear y seguir un presupuesto mensual —incluido el ahorro regular— puede ayudar a hacer realidad sus objetivos financieros con el tiempo. Adquiera el hábito de saber cuánto gasta y ahorra para poder disfrutar de seguridad y libertad financieras.
A6: 1. Tenga un plan
A7: Reserve un momento y escriba su plan para ahorrar dinero para gastos futuros, como pagar deudas, comprar un automóvil, pagar una matrícula y hacer donaciones de caridad. Actualice el plan al menos una vez al año. La hoja de trabajo “Mis objetivos financieros” de Regions es un excelente lugar para registrar y hacer un seguimiento de sus objetivos.
A9: 2. Páguese primero a usted mismo
A10: Asegúrese de haber establecido una rutina para ahorrar algo de dinero de cada sueldo. Abra una cuenta separada y establezca un depósito automático de al menos el 10 por ciento de los ingresos de cada mes. A continuación, cree su presupuesto a partir de sus ingresos restantes.
A12: 3. Ahorros para emergencias
A13: Crear un fondo para emergencias es su principal prioridad de ahorro. Planifique para lo inesperado ahorrando al menos de 3 a 6 meses de gastos de vida en una cuenta separada que devengue intereses. Considere ajustar el monto a lo largo del tiempo a medida que cambien los gastos y las obligaciones financieras familiares.
A17: Uso de Mi plan de gastos
A18: Use la pestaña Mi plan de gastos para registrar y hacer un seguimiento de sus gastos mensuales. En Excel, puede fácilmente agregar filas y personalizar títulos para elementos de línea individuales, y así crear un plan tan único como usted. Piense en los totales generales a continuación como una instantánea en la que puede ver rápidamente sus totales. Los totales generales también se pueden encontrar al final de la pestaña Mi plan de gastos, que le permite ver los detalles de sus gastos/ahorros mensuales y cómo afectan a sus totales.
A21: Totales generales
C22: Enero | E22: Febrero | G22: Marzo | I22: Abril | K22: Mayo | M22: Junio | O22: Julio | Q22: Agosto | S22: Septiembre | U22: Octubre | W22: Noviembre | Y22: Diciembre
A23: Dinero total que gana cada mes | C23: ='Mi plan de gastos'!C19 -> 0 | E23: ='Mi plan de gastos'!E19 -> 0 | G23: ='Mi plan de gastos'!G19 -> 0 | I23: ='Mi plan de gastos'!I19 -> 0 | K23: ='Mi plan de gastos'!K19 -> 0 | M23: ='Mi plan de gastos'!M19 -> 0 | O23: ='Mi plan de gastos'!O19 -> 0 | Q23: ='Mi plan de gastos'!Q19 -> 0 | S23: ='Mi plan de gastos'!S19 -> 0 | U23: ='Mi plan de gastos'!U19 -> 0 | W23: ='Mi plan de gastos'!W19 -> 0 | Y23: ='Mi plan de gastos'!Y19 -> 0
A24: Dinero total que ahorra cada mes | C24: ='Mi plan de gastos'!C34 -> 0 | E24: ='Mi plan de gastos'!E34 -> 0 | G24: ='Mi plan de gastos'!G34 -> 0 | I24: ='Mi plan de gastos'!I34 -> 0 | K24: ='Mi plan de gastos'!K34 -> 0 | M24: ='Mi plan de gastos'!M34 -> 0 | O24: ='Mi plan de gastos'!O34 -> 0 | Q24: ='Mi plan de gastos'!Q34 -> 0 | S24: ='Mi plan de gastos'!S34 -> 0 | U24: ='Mi plan de gastos'!U34 -> 0 | W24: ='Mi plan de gastos'!W34 -> 0 | Y24: ='Mi plan de gastos'!Y34 -> 0
A25: Dinero total que gasta cada mes | C25: ='Mi plan de gastos'!C51+'Mi plan de gastos'!C66+'Mi plan de gastos'!C81+'Mi plan de gastos'!C95+'Mi plan de gastos'!C107+'Mi plan de gastos'!C132+'Mi plan de gastos'!C142+'Mi plan de gastos'!C150 -> 0 | E25: ='Mi plan de gastos'!E51+'Mi plan de gastos'!E66+'Mi plan de gastos'!E81+'Mi plan de gastos'!E95+'Mi plan de gastos'!E107+'Mi plan de gastos'!E132+'Mi plan de gastos'!E142+'Mi plan de gastos'!E150 -> 0 | G25: ='Mi plan de gastos'!G51+'Mi plan de gastos'!G66+'Mi plan de gastos'!G81+'Mi plan de gastos'!G95+'Mi plan de gastos'!G107+'Mi plan de gastos'!G132+'Mi plan de gastos'!G142+'Mi plan de gastos'!G150 -> 0 | I25: ='Mi plan de gastos'!I51+'Mi plan de gastos'!I66+'Mi plan de gastos'!I81+'Mi plan de gastos'!I95+'Mi plan de gastos'!I107+'Mi plan de gastos'!I132+'Mi plan de gastos'!I142+'Mi plan de gastos'!I150 -> 0 | K25: ='Mi plan de gastos'!K51+'Mi plan de gastos'!K66+'Mi plan de gastos'!K81+'Mi plan de gastos'!K95+'Mi plan de gastos'!K107+'Mi plan de gastos'!K132+'Mi plan de gastos'!K142+'Mi plan de gastos'!K150 -> 0 | M25: ='Mi plan de gastos'!M51+'Mi plan de gastos'!M66+'Mi plan de gastos'!M81+'Mi plan de gastos'!M95+'Mi plan de gastos'!M107+'Mi plan de gastos'!M132+'Mi plan de gastos'!M142+'Mi plan de gastos'!M150 -> 0 | O25: ='Mi plan de gastos'!O51+'Mi plan de gastos'!O66+'Mi plan de gastos'!O81+'Mi plan de gastos'!O95+'Mi plan de gastos'!O107+'Mi plan de gastos'!O132+'Mi plan de gastos'!O142+'Mi plan de gastos'!O150 -> 0 | Q25: ='Mi plan de gastos'!Q51+'Mi plan de gastos'!Q66+'Mi plan de gastos'!Q81+'Mi plan de gastos'!Q95+'Mi plan de gastos'!Q107+'Mi plan de gastos'!Q132+'Mi plan de gastos'!Q142+'Mi plan de gastos'!Q150 -> 0 | S25: ='Mi plan de gastos'!S51+'Mi plan de gastos'!S66+'Mi plan de gastos'!S81+'Mi plan de gastos'!S95+'Mi plan de gastos'!S107+'Mi plan de gastos'!S132+'Mi plan de gastos'!S142+'Mi plan de gastos'!S150 -> 0 | U25: ='Mi plan de gastos'!U51+'Mi plan de gastos'!U66+'Mi plan de gastos'!U81+'Mi plan de gastos'!U95+'Mi plan de gastos'!U107+'Mi plan de gastos'!U132+'Mi plan de gastos'!U142+'Mi plan de gastos'!U150 -> 0 | W25: ='Mi plan de gastos'!W51+'Mi plan de gastos'!W66+'Mi plan de gastos'!W81+'Mi plan de gastos'!W95+'Mi plan de gastos'!W107+'Mi plan de gastos'!W132+'Mi plan de gastos'!W142+'Mi plan de gastos'!W150 -> 0 | Y25: ='Mi plan de gastos'!Y51+'Mi plan de gastos'!Y66+'Mi plan de gastos'!Y81+'Mi plan de gastos'!Y95+'Mi plan de gastos'!Y107+'Mi plan de gastos'!Y132+'Mi plan de gastos'!Y142+'Mi plan de gastos'!Y150 -> 0
A26: Excedente/déficit | C26: =C23-C24-C25 -> 0 | E26: =E23-E24-E25 -> 0 | G26: =G23-G24-G25 -> 0 | I26: =I23-I24-I25 -> 0 | K26: =K23-K24-K25 -> 0 | M26: =M23-M24-M25 -> 0 | O26: =O23-O24-O25 -> 0 | Q26: =Q23-Q24-Q25 -> 0 | S26: =S23-S24-S25 -> 0 | U26: =U23-U24-U25 -> 0 | W26: =W23-W24-W25 -> 0 | Y26: =Y23-Y24-Y25 -> 0
C27: Excedente: ¡Buen trabajo! Usted vive dentro de su presupuesto. Puede utilizar este dinero para ahorrar o para pagar una deuda Déficit: Monto de ingresos adicionales o reducción de gastos necesaria para equilibrar su presupuesto
C28: Nota: No todos los gastos se producen mensualmente, así que planifique con anticipación para asegurarse de estar preparado para los gastos trimestrales o anuales.
A29: Cómo aprovechar al máximo su dinero
A30: Centro de aprendizaje financiero de Regions
A31: Insights by Regions
A32: Localice las sucursales de Regions y los cajeros automáticos cerca de su ubicación
A34: Esta información es de índole general y no pretende servir como asesoramiento específico jurídico, impositivo ni financiero. Si bien Regions considera que esta información es precisa, no puede garantizar que siga estando actualizada. Las afirmaciones u opiniones de las personas a quienes se hace referencia en el presente les pertenecen a ellas y no a Regions. Consulte con un profesional adecuado acerca de su situación específica y visite el sitio irs.gov para conocer las normas tributarias vigentes.
A35: © 2022 Regions Bank. Regions, Regions Next Step, el logotipo de Regions Next Step y el logotipo de Regions son marcas comerciales registradas de Regions Bank. El color de LifeGreen es una marca comercial de Regions Bank.

Sheet Mi plan de gastos
A2: MI PLAN DE GASTOS PARA
A5: Insights by Regions. Orientación financiera para progresar.
C7: Enero | E7: Febrero | G7: Marzo | I7: Abril | K7: Mayo | M7: Junio | O7: Julio | Q7: Agosto | S7: Septiembre | U7: Octubre | W7: Noviembre | Y7: Diciembre
A8: Dinero que gana cada mes
A9: Trabajo de tiempo completo
A10: Trabajo de tiempo parcial
A11: Trabajo autónomo
A12: Manutención de menores/pensión alimenticia
A13: Ingresos de jubilación
A14: Ingresos inesperados (reembolso de impuestos, obsequios, etc.)
A15: Otros ingresos
A19: TOTAL | C19: =SUM(C9:C18) -> 0 | E19: =SUM(E9:E18) -> 0 | G19: =SUM(G9:G18) -> 0 | I19: =SUM(I9:I18) -> 0 | K19: =SUM(K9:K18) -> 0 | M19: =SUM(M9:M18) -> 0 | O19: =SUM(O9:O18) -> 0 | Q19: =SUM(Q9:Q18) -> 0 | S19: =SUM(S9:S18) -> 0 | U19: =SUM(U9:U18) -> 0 | W19: =SUM(W9:W18) -> 0 | Y19: =SUM(Y9:Y18) -> 0
A22: Dinero que ahorra cada mes
A23: Enséñese a ahorrar dinero. Nunca es demasiado tarde para desarrollar una estrategia de ahorro. Ayudará a construir un futuro financiero sólido para necesidades futuras como un automóvil, educación universitaria, el pago inicial de una casa y, eventualmente, su jubilación.
A24: Fondo para emergencias
A25: Jubilación
A26: Comprar una casa
A27: Comprar un automóvil
A28: Universidad
A31: Objetivos a corto plazo (<12 meses)
A32: Objetivos a mediano plazo (12 meses a 5 años)
A33: Objetivos a largo plazo (más de 5 años)
A34: TOTAL | C34: =SUM(C24:C33) -> 0 | E34: =SUM(E24:E33) -> 0 | G34: =SUM(G24:G33) -> 0 | I34: =SUM(I24:I33) -> 0 | K34: =SUM(K24:K33) -> 0 | M34: =SUM(M24:M33) -> 0 | O34: =SUM(O24:O33) -> 0 | Q34: =SUM(Q24:Q33) -> 0 | S34: =SUM(S24:S33) -> 0 | U34: =SUM(U24:U33) -> 0 | W34: =SUM(W24:W33) -> 0 | Y34: =SUM(Y24:Y33) -> 0
A37: Dinero que gasta cada mes
A38: ¿Qué debería cubrir su seguro de vivienda? Obtenga información sobre las cosas que debe buscar al comprar una póliza de seguro de vivienda.
A39: Vivienda
A40: Hipoteca/renta
A41: Línea de crédito/Préstamo sobre el valor neto de la vivienda
A42: Impuestos sobre la propiedad
A43: Seguro para propietarios o inquilinos
A44: Tarifa de la Asociación de Propietarios de Vivienda
A45: Evaluaciones de mantenimiento
A46: Mantenimiento del césped
A47: Limpieza y reparaciones
A48: Control de plagas
A51: TOTAL | C51: =SUM(C40:C50) -> 0 | E51: =SUM(E40:E50) -> 0 | G51: =SUM(G40:G50) -> 0 | I51: =SUM(I40:I50) -> 0 | K51: =SUM(K40:K50) -> 0 | M51: =SUM(M40:M50) -> 0 | O51: =SUM(O40:O50) -> 0 | Q51: =SUM(Q40:Q50) -> 0 | S51: =SUM(S40:S50) -> 0 | U51: =SUM(U40:U50) -> 0 | W51: =SUM(W40:W50) -> 0 | Y51: =SUM(Y40:Y50) -> 0
A53: Servicios públicos
A54: Eficiencia energética. La energía no es barata. Conozca 6 pasos para tener un hogar energéticamente eficiente.
A55: Electricidad
A56: Agua
...

Sheet Mis objetivos financieros
B2: MIS OBJETIVOS FINANCIEROS
B3: Mis objetivos a partir del
B4: Trabajar para alcanzar un objetivo financiero puede lograrse con compromiso y planificación. Los objetivos financieros a menudo son una combinación de ahorrar para alcanzar los objetivos y reducir deudas. Escriba aquí sus objetivos en orden de prioridad como primer paso para crear una estrategia para alcanzarlos.
B5: Priorice sus objetivos
B6: Objetivo 1 | C6: Fondo para emergencias | I6: CONSEJO
B7: Objetivo 2 | I7: Ahorrar el equivalente a 3 a 6 meses de gastos de vida en un fondo para emergencias debería ser su primer/principal objetivo financiero.
B8: Objetivo 3
B9: Objetivo 4
B10: Cree su estrategia
B11: Reduzca sus deudas
B12: Al considerar los objetivos financieros, es útil evaluar todas sus deudas. Enumere todas sus deudas aquí con las tasas de interés más altas primero. Las deudas pueden incluir una hipoteca, un préstamo/línea sobre el valor neto de la vivienda, préstamos para estudiantes, préstamos para automóviles, tarjetas de crédito, etc.
B14: Deuda | C14: Pago mensual | D14: Total adeudado | E14: Tasa de interés (APR)
G17: CONSEJO
G18: Use cualquier dinero adicional en su presupuesto para saldar primero la deuda con tasa de interés alta.
B22: Alcance sus objetivos
B23: Ahora que sus objetivos están priorizados y tiene una visión clara de sus deudas, el siguiente paso es pensar si sus objetivos son objetivos a corto, mediano o largo plazo. Luego complete la siguiente tabla y calcule cuánto dinero necesitará cada mes para alcanzar sus objetivos.
C24: Total de $ necesarios | D24: ÷ Cantidad de meses = | F24: Monto necesario cada mes para alcanzar su objetivo
B25: A corto plazo (<12 meses)
F26: =IF(D26=0,"",C26/D26)
F27: =IF(D27=0,"",C27/D27)
F28: =IF(D28=0,"",C28/D28)
B30: A mediano plazo (12 meses a 5 años)
F31: =IF(D31=0,"",C31/D31)
F32: =IF(D32=0,"",C32/D32)
F33: =IF(D33=0,"",C33/D33)
B35: A largo plazo (más de 5 años) | I35: CONSEJO
F36: =IF(D36=0,"",C36/D36) | I36: Para objetivos a largo plazo, lo mejor es automatizar sus ahorros. Visite su sucursal local para encontrar maneras de ahorrar dinero automáticamente en una cuenta de ahorros u otra opción de inversión para su futuro. ¡Se alegrará de haberlo hecho!
F37: =IF(D37=0,"",C37/D37)
F38: =IF(D38=0,"",C38/D38)
B40: Esta información es de índole general y no pretende servir como asesoramiento específico jurídico, impositivo ni financiero. Si bien Regions considera que esta información es precisa, no puede garantizar que siga estando actualizada. Las afirmaciones u opiniones de las personas a quienes se hace referencia en el presente les pertenecen a ellas y no a Regions. Consulte con un profesional adecuado acerca de su situación específica y visite el sitio irs.gov para conocer las normas tributarias vigentes.
C41: © 2022 Regions Bank. Regions, Regions Next Step, el logotipo de Regions Next Step y el logotipo de Regions son marcas comerciales registradas de Regions Bank. El color de LifeGreen es una marca comercial de Regions Bank.
